BEGIN:VCALENDAR
VERSION:2.0
PRODID:-//https://calenda-formation.labocleo.org
X-WR-CALNAME:Calenda
X-WR-TIMEZONE:Europe/Paris
CALSCALE:GREGORIAN
X-WR-CALDESC:Le calendrier des lettres et sciences humaines et sociales
METHOD:PUBLISH
BEGIN:VEVENT
DTSTART;VALUE=DATE:20061206
DTEND;VALUE=DATE:20061207
UID:192206-20061206@calenda.revues.org
SUMMARY:Santé\, vulnérabilité et ruptures sociales
URL:https://calenda-formation.labocleo.org/192206
DESCRIPTION:Ce séminaire organisé par les Ateliers du CCAS de La Rochelle est coordonné par Gérard Laniez\, en collaboration avec Isabelle Parizot et Pierre Chauvin\, SIRS Ile de France.    Une conférence de Sylvie Zucca psychiatre\, psychanalyste\, à l'Hôpital Esqu… Weitere Informationen https://calenda-formation.labocleo.org/192206
LOCATION:La Rochelle
END:VEVENT
END:VCALENDAR
