BEGIN:VCALENDAR
VERSION:2.0
PRODID:-//https://calenda-formation.labocleo.org
X-WR-CALNAME:Calenda
X-WR-TIMEZONE:Europe/Paris
CALSCALE:GREGORIAN
X-WR-CALDESC:O calendário de letras e de ciências sociais e humanas
METHOD:PUBLISH
BEGIN:VEVENT
DTSTART;VALUE=DATE:20070630
DTEND;VALUE=DATE:20070701
UID:192208-20070630@calenda.revues.org
SUMMARY:So Multiples 
URL:https://calenda-formation.labocleo.org/192208
DESCRIPTION:Tirant les leçons d’une relative méconnaissance du thème du multiple dans l’art et dans le but de mieux le faire connaître à tous\, nous envisageons\, d’ici un an à un an et demi\, de créer une revue électronique semestrielle de référence sur ce sujet\, … @plus_info https://calenda-formation.labocleo.org/192208
LOCATION:
END:VEVENT
END:VCALENDAR
