BEGIN:VCALENDAR
VERSION:2.0
PRODID:-//https://calenda-formation.labocleo.org
X-WR-CALNAME:Calenda
X-WR-TIMEZONE:Europe/Paris
CALSCALE:GREGORIAN
X-WR-CALDESC:Le calendrier des lettres et sciences humaines et sociales
METHOD:PUBLISH
BEGIN:VEVENT
DTSTART;VALUE=DATE:20061206
DTEND;VALUE=DATE:20061207
UID:192210-20061206@calenda.revues.org
SUMMARY:Les détours de Babel. La traduction comme paradigme
URL:https://calenda-formation.labocleo.org/192210
DESCRIPTION:Conférence du Professeur François OST\, Vice recteur de la Faculté Universitaire Saint-Louis\, Bruxelles (Belgique)… Weitere Informationen https://calenda-formation.labocleo.org/192210
LOCATION:Paris
END:VEVENT
END:VCALENDAR
