BEGIN:VCALENDAR
VERSION:2.0
PRODID:-//https://calenda-formation.labocleo.org
X-WR-CALNAME:Calenda
X-WR-TIMEZONE:Europe/Paris
CALSCALE:GREGORIAN
X-WR-CALDESC:Le calendrier des lettres et sciences humaines et sociales
METHOD:PUBLISH
BEGIN:VEVENT
DTSTART;VALUE=DATE:20070110
DTEND;VALUE=DATE:20070111
UID:192300-20070110@calenda.revues.org
SUMMARY:Démocratie\,  gouvernance européenne et sciences sociales
URL:https://calenda-formation.labocleo.org/192300
DESCRIPTION: L’ambition de cette rencontre est d’amener les responsables des principaux projets de recherche internationaux sur la gouvernance européenne à faire état de leurs résultats préliminaires ou définitifs. Cet exposé – qui englobera les volets politique… Más informaciones https://calenda-formation.labocleo.org/192300
LOCATION:París
END:VEVENT
END:VCALENDAR
