BEGIN:VCALENDAR
VERSION:2.0
PRODID:-//https://calenda-formation.labocleo.org
X-WR-CALNAME:Calenda
X-WR-TIMEZONE:Europe/Paris
CALSCALE:GREGORIAN
X-WR-CALDESC:The calendar for arts, humanities and social sciences
METHOD:PUBLISH
BEGIN:VEVENT
DTSTART;VALUE=DATE:20061208
DTEND;VALUE=DATE:20061209
UID:192342-20061208@calenda.revues.org
SUMMARY:Revolution\, Empire\, Race: Experiences of British Modernity
URL:https://calenda-formation.labocleo.org/192342
DESCRIPTION:Avec l’époque moderne se construisent des concepts tels que la «révolution »\, « l’empire » et la « race »\, notions complexes\, fédératrices et controversées. Celles-ci forment des éléments essentiels du substrat et de l’horizon intellectuel des pensée… @plus_info https://calenda-formation.labocleo.org/192342
LOCATION:Paris
END:VEVENT
END:VCALENDAR
