BEGIN:VCALENDAR
VERSION:2.0
PRODID:-//https://calenda-formation.labocleo.org
X-WR-CALNAME:Calenda
X-WR-TIMEZONE:Europe/Paris
CALSCALE:GREGORIAN
X-WR-CALDESC:Le calendrier des lettres et sciences humaines et sociales
METHOD:PUBLISH
BEGIN:VEVENT
DTSTART;VALUE=DATE:20070115
DTEND;VALUE=DATE:20070116
UID:192344-20070115@calenda.revues.org
SUMMARY:Détail et totalité
URL:https://calenda-formation.labocleo.org/192344
DESCRIPTION:Parce qu’elle a trait aux relations nouées entre les parties et l’ensemble qui les comprend\, la question du détail s’investit d’enjeux considérables pour toute tentative de réflexion interdisciplinaire. En effet\, dans toutes les disciplines qui s’att… @plus_info https://calenda-formation.labocleo.org/192344
LOCATION:Liège
END:VEVENT
END:VCALENDAR
