BEGIN:VCALENDAR
VERSION:2.0
PRODID:-//https://calenda-formation.labocleo.org
X-WR-CALNAME:Calenda
X-WR-TIMEZONE:Europe/Paris
CALSCALE:GREGORIAN
X-WR-CALDESC:Le calendrier des lettres et sciences humaines et sociales
METHOD:PUBLISH
BEGIN:VEVENT
DTSTART;VALUE=DATE:20061208
DTEND;VALUE=DATE:20061209
UID:192354-20061208@calenda.revues.org
SUMMARY:La science dans les espaces culturels et médiatiques
URL:https://calenda-formation.labocleo.org/192354
DESCRIPTION:À partir d'une expérience éditoriale de quelques décennies\, reposant essentiellement sur les collections scientifiques du Seuil ("Science ouverte"\, "Points-Sciences"\, "Sources"\, "La Dérivée") et sur la publication de la revue "Alliage (culture\, scien… Más informaciones https://calenda-formation.labocleo.org/192354
LOCATION:París
END:VEVENT
END:VCALENDAR
