BEGIN:VCALENDAR
VERSION:2.0
PRODID:-//https://calenda-formation.labocleo.org
X-WR-CALNAME:Calenda
X-WR-TIMEZONE:Europe/Paris
CALSCALE:GREGORIAN
X-WR-CALDESC:Le calendrier des lettres et sciences humaines et sociales
METHOD:PUBLISH
BEGIN:VEVENT
DTSTART;VALUE=DATE:20061214
DTEND;VALUE=DATE:20061215
UID:192357-20061214@calenda.revues.org
SUMMARY:What Gay Marriage Does to Norms? 
URL:https://calenda-formation.labocleo.org/192357
DESCRIPTION:Depuis la fin des années 1980\, les batailles politiques et les transformations légales autour de la question des couples de même sexe et des familles homoparentales ont attiré une attention considérable\, en Europe\, en Amérique du Nord\, et au-delà\, à … Más informaciones https://calenda-formation.labocleo.org/192357
LOCATION:París
END:VEVENT
END:VCALENDAR
