BEGIN:VCALENDAR
VERSION:2.0
PRODID:-//https://calenda-formation.labocleo.org
X-WR-CALNAME:Calenda
X-WR-TIMEZONE:Europe/Paris
CALSCALE:GREGORIAN
X-WR-CALDESC:Le calendrier des lettres et sciences humaines et sociales
METHOD:PUBLISH
BEGIN:VEVENT
DTSTART;VALUE=DATE:20070310
DTEND;VALUE=DATE:20070311
UID:192361-20070310@calenda.revues.org
SUMMARY:Abécédaire de Claude Lévi-Strauss
URL:https://calenda-formation.labocleo.org/192361
DESCRIPTION:Après les premiers volumes consacrés à Michel Foucault\, Pierre Bourdieu et Jacques Derrida\,  le prochain volume de la collection Abécédaire sera dédié au travail de Claude Lévi-Strauss.… @plus_info https://calenda-formation.labocleo.org/192361
LOCATION:
END:VEVENT
END:VCALENDAR
