BEGIN:VCALENDAR
VERSION:2.0
PRODID:-//https://calenda-formation.labocleo.org
X-WR-CALNAME:Calenda
X-WR-TIMEZONE:Europe/Paris
CALSCALE:GREGORIAN
X-WR-CALDESC:Le calendrier des lettres et sciences humaines et sociales
METHOD:PUBLISH
BEGIN:VEVENT
DTSTART;VALUE=DATE:20070305
DTEND;VALUE=DATE:20070306
UID:192371-20070305@calenda.revues.org
SUMMARY:Migrations et protection sociale
URL:https://calenda-formation.labocleo.org/192371
DESCRIPTION:Le présent appel à propositions de recherche vise à éclairer les interactions entre les mouvements migratoires et les divers dispositifs de protection sociale et d’assistance\, concernant la santé\, la famille\, la vieillesse\, le chômage\, le handicap ou… Weitere Informationen https://calenda-formation.labocleo.org/192371
LOCATION:
END:VEVENT
END:VCALENDAR
