BEGIN:VCALENDAR
VERSION:2.0
PRODID:-//https://calenda-formation.labocleo.org
X-WR-CALNAME:Calenda
X-WR-TIMEZONE:Europe/Paris
CALSCALE:GREGORIAN
X-WR-CALDESC:Le calendrier des lettres et sciences humaines et sociales
METHOD:PUBLISH
BEGIN:VEVENT
DTSTART;VALUE=DATE:20070725
DTEND;VALUE=DATE:20070726
UID:192394-20070725@calenda.revues.org
SUMMARY:Image & voyage
URL:https://calenda-formation.labocleo.org/192394
DESCRIPTION:Ce colloque transdisciplinaire sur la notion d'imaginaire visuel dans la littérature des voyages regroupera les contributions de littéraires\, de scientifiques\, d’historiens et travaillera la notion d'imaginaire dans la lignée des précédents travaux d… Weitere Informationen https://calenda-formation.labocleo.org/192394
LOCATION:Aix-en-Provence
END:VEVENT
END:VCALENDAR
