BEGIN:VCALENDAR
VERSION:2.0
PRODID:-//https://calenda-formation.labocleo.org
X-WR-CALNAME:Calenda
X-WR-TIMEZONE:Europe/Paris
CALSCALE:GREGORIAN
X-WR-CALDESC:Le calendrier des lettres et sciences humaines et sociales
METHOD:PUBLISH
BEGIN:VEVENT
DTSTART;VALUE=DATE:20070109
DTEND;VALUE=DATE:20070110
UID:192425-20070109@calenda.revues.org
SUMMARY:L’épuisement professionnel des travailleurs sociaux
URL:https://calenda-formation.labocleo.org/192425
DESCRIPTION:L'épuisement professionnel ou bur-nout frappe un nombre grandissant de personnes. Il désigne toutes les formes de dégradations psychologiques et physiques liées aux interactions homme/travail consécutives à l'exposition à un stress permanent et prolo… @plus_info https://calenda-formation.labocleo.org/192425
LOCATION:Mulhouse
END:VEVENT
END:VCALENDAR
