BEGIN:VCALENDAR
VERSION:2.0
PRODID:-//https://calenda-formation.labocleo.org
X-WR-CALNAME:Calenda
X-WR-TIMEZONE:Europe/Paris
CALSCALE:GREGORIAN
X-WR-CALDESC:The calendar for arts, humanities and social sciences
METHOD:PUBLISH
BEGIN:VEVENT
DTSTART;VALUE=DATE:20070124
DTEND;VALUE=DATE:20070125
UID:192448-20070124@calenda.revues.org
SUMMARY:Tropicalités en géographie
URL:https://calenda-formation.labocleo.org/192448
DESCRIPTION: Autour de la dimension épistémologique du débat\, les chercheurs se positionneront autour des quatre problématiques suivantes :   1. Géographie coloniale\, géographie tropicale\, géographie de l’action ?    2. Transition ou rupture ? Regards épistémolo… @plus_info https://calenda-formation.labocleo.org/192448
LOCATION:Pessac
END:VEVENT
END:VCALENDAR
