BEGIN:VCALENDAR
VERSION:2.0
PRODID:-//https://calenda-formation.labocleo.org
X-WR-CALNAME:Calenda
X-WR-TIMEZONE:Europe/Paris
CALSCALE:GREGORIAN
X-WR-CALDESC:Le calendrier des lettres et sciences humaines et sociales
METHOD:PUBLISH
BEGIN:VEVENT
DTSTART;VALUE=DATE:20070315
DTEND;VALUE=DATE:20070316
UID:192476-20070315@calenda.revues.org
SUMMARY:Tapisserie et broderie
URL:https://calenda-formation.labocleo.org/192476
DESCRIPTION:Ce colloque pluridisciplinaire organisé à Angers du 4 au 6 octobre 2007 abordera tapisseries et textiles de l'époque paléochrétienne au XVIIe siècle sous un angle délibérément iconographique: emprunts de motifs décoratifs orientaux\, relectures des my… Weitere Informationen https://calenda-formation.labocleo.org/192476
LOCATION:Angers
END:VEVENT
END:VCALENDAR
