BEGIN:VCALENDAR
VERSION:2.0
PRODID:-//https://calenda-formation.labocleo.org
X-WR-CALNAME:Calenda
X-WR-TIMEZONE:Europe/Paris
CALSCALE:GREGORIAN
X-WR-CALDESC:Le calendrier des lettres et sciences humaines et sociales
METHOD:PUBLISH
BEGIN:VEVENT
DTSTART;VALUE=DATE:20070301
DTEND;VALUE=DATE:20070302
UID:192502-20070301@calenda.revues.org
SUMMARY:Penser la frontière
URL:https://calenda-formation.labocleo.org/192502
DESCRIPTION:Appel à communication en vue d'une journée d'étude sur la notion de frontière et son utilisation en sociologie\, qui se déroulera à la Maison de la recherche de l'Université Paris-Sorbonne le 15 juin 2007… Weitere Informationen https://calenda-formation.labocleo.org/192502
LOCATION:Paris
END:VEVENT
END:VCALENDAR
