BEGIN:VCALENDAR
VERSION:2.0
PRODID:-//https://calenda-formation.labocleo.org
X-WR-CALNAME:Calenda
X-WR-TIMEZONE:Europe/Paris
CALSCALE:GREGORIAN
X-WR-CALDESC:The calendar for arts, humanities and social sciences
METHOD:PUBLISH
BEGIN:VEVENT
DTSTART;VALUE=DATE:20070309
DTEND;VALUE=DATE:20070310
UID:192524-20070309@calenda.revues.org
SUMMARY:La mise en patrimoine de l'eau
URL:https://calenda-formation.labocleo.org/192524
DESCRIPTION:Depuis quelques années on assiste\, parallèlement à la diffusion du concept de développement durable\, à une patrimonialisation de l’environnement et des ressources naturelles dans les discours comme dans les textes juridiques de portée nationale et in… @plus_info https://calenda-formation.labocleo.org/192524
LOCATION:Arras
END:VEVENT
END:VCALENDAR
