BEGIN:VCALENDAR
VERSION:2.0
PRODID:-//https://calenda-formation.labocleo.org
X-WR-CALNAME:Calenda
X-WR-TIMEZONE:Europe/Paris
CALSCALE:GREGORIAN
X-WR-CALDESC:Le calendrier des lettres et sciences humaines et sociales
METHOD:PUBLISH
BEGIN:VEVENT
DTSTART;VALUE=DATE:20070220
DTEND;VALUE=DATE:20070221
UID:192633-20070220@calenda.revues.org
SUMMARY:Le discours intellectuel au carrefour de l’Histoire
URL:https://calenda-formation.labocleo.org/192633
DESCRIPTION:Le Colloque fait partie d’un projet plus large qui vise le dialogue culturel et interuniversitaire en général et littéraire\, en particulier\, dans l’espace culturel européen\, du point de vue des interférences et des confluences culturelles. De ce poin… Weitere Informationen https://calenda-formation.labocleo.org/192633
LOCATION:Galatz
END:VEVENT
END:VCALENDAR
