BEGIN:VCALENDAR
VERSION:2.0
PRODID:-//https://calenda-formation.labocleo.org
X-WR-CALNAME:Calenda
X-WR-TIMEZONE:Europe/Paris
CALSCALE:GREGORIAN
X-WR-CALDESC:Le calendrier des lettres et sciences humaines et sociales
METHOD:PUBLISH
BEGIN:VEVENT
DTSTART;VALUE=DATE:20070208
DTEND;VALUE=DATE:20070209
UID:192646-20070208@calenda.revues.org
SUMMARY:Les mondes agricoles en politique
URL:https://calenda-formation.labocleo.org/192646
DESCRIPTION:Vous pouvez désormais retrouver en ligne sur le site du CEVIPOF les enregistrements audio\, les documents de travail et diaporamas du séminaire Les mondes agricoles en politique. (rubrique rencontres)… Weitere Informationen https://calenda-formation.labocleo.org/192646
LOCATION:
END:VEVENT
END:VCALENDAR
