BEGIN:VCALENDAR
VERSION:2.0
PRODID:-//https://calenda-formation.labocleo.org
X-WR-CALNAME:Calenda
X-WR-TIMEZONE:Europe/Paris
CALSCALE:GREGORIAN
X-WR-CALDESC:Le calendrier des lettres et sciences humaines et sociales
METHOD:PUBLISH
BEGIN:VEVENT
DTSTART;VALUE=DATE:20070329
DTEND;VALUE=DATE:20070330
UID:192658-20070329@calenda.revues.org
SUMMARY:Informatisation du travail d’édition critique : quelques outils\, quelques enjeux
URL:https://calenda-formation.labocleo.org/192658
DESCRIPTION:Cette journée d'étude vise à établir un tour d'horizon des réalisations et des besoins en matière  de méthodologie et d'outillage logiciel pour le travail scientifique d'édition critique sur supports numériques.… Más informaciones https://calenda-formation.labocleo.org/192658
LOCATION:Lyon
END:VEVENT
END:VCALENDAR
