BEGIN:VCALENDAR
VERSION:2.0
PRODID:-//https://calenda-formation.labocleo.org
X-WR-CALNAME:Calenda
X-WR-TIMEZONE:Europe/Paris
CALSCALE:GREGORIAN
X-WR-CALDESC:Le calendrier des lettres et sciences humaines et sociales
METHOD:PUBLISH
BEGIN:VEVENT
DTSTART;VALUE=DATE:20070323
DTEND;VALUE=DATE:20070324
UID:192735-20070323@calenda.revues.org
SUMMARY:Fondements et enjeux d'une transition politique\, économique et sociale en Iran\, 1989-2006 
URL:https://calenda-formation.labocleo.org/192735
DESCRIPTION:L’objectif de cette journée est de contribuer à l’étude des fondements\, des caractéristiques et des effets des changements de ces dix huit dernières années en Iran\, issus des transformations de l’ordre politique et des interactions entre celui-ci\, l’… Más informaciones https://calenda-formation.labocleo.org/192735
LOCATION:París
END:VEVENT
END:VCALENDAR
