BEGIN:VCALENDAR
VERSION:2.0
PRODID:-//https://calenda-formation.labocleo.org
X-WR-CALNAME:Calenda
X-WR-TIMEZONE:Europe/Paris
CALSCALE:GREGORIAN
X-WR-CALDESC:Le calendrier des lettres et sciences humaines et sociales
METHOD:PUBLISH
BEGIN:VEVENT
DTSTART;VALUE=DATE:20070423
DTEND;VALUE=DATE:20070424
UID:192738-20070423@calenda.revues.org
SUMMARY:Le parcours d’un jeune chercheur en sciences de l’information et de la communication
URL:https://calenda-formation.labocleo.org/192738
DESCRIPTION:Trois journées d’étude intitulées « Le parcours d’un jeune chercheur en Sciences de l’Information et de la Communication. Questionnements\, méthodes\, pratiques ».… @plus_info https://calenda-formation.labocleo.org/192738
LOCATION:La Plaine-Saint-Denis
END:VEVENT
BEGIN:VEVENT
DTSTART;VALUE=DATE:20070424
DTEND;VALUE=DATE:20070425
UID:192738-20070424@calenda.revues.org
SUMMARY:Le parcours d’un jeune chercheur en sciences de l’information et de la communication
URL:https://calenda-formation.labocleo.org/192738
DESCRIPTION:Trois journées d’étude intitulées « Le parcours d’un jeune chercheur en Sciences de l’Information et de la Communication. Questionnements\, méthodes\, pratiques ».… @plus_info https://calenda-formation.labocleo.org/192738
LOCATION:La Plaine-Saint-Denis
END:VEVENT
BEGIN:VEVENT
DTSTART;VALUE=DATE:20070425
DTEND;VALUE=DATE:20070426
UID:192738-20070425@calenda.revues.org
SUMMARY:Le parcours d’un jeune chercheur en sciences de l’information et de la communication
URL:https://calenda-formation.labocleo.org/192738
DESCRIPTION:Trois journées d’étude intitulées « Le parcours d’un jeune chercheur en Sciences de l’Information et de la Communication. Questionnements\, méthodes\, pratiques ».… @plus_info https://calenda-formation.labocleo.org/192738
LOCATION:La Plaine-Saint-Denis
END:VEVENT
END:VCALENDAR
