BEGIN:VCALENDAR
VERSION:2.0
PRODID:-//https://calenda-formation.labocleo.org
X-WR-CALNAME:Calenda
X-WR-TIMEZONE:Europe/Paris
CALSCALE:GREGORIAN
X-WR-CALDESC:Le calendrier des lettres et sciences humaines et sociales
METHOD:PUBLISH
BEGIN:VEVENT
DTSTART;VALUE=DATE:20070323
DTEND;VALUE=DATE:20070324
UID:192747-20070323@calenda.revues.org
SUMMARY:Pratiques et identités culturelles des armées hellénistiques du monde méditerranéen
URL:https://calenda-formation.labocleo.org/192747
DESCRIPTION:Depuis plusieurs décennies\, le thème de la guerre en Grèce ancienne n’a cessé de s’enrichir d’une production historiographique abondante et renouvelant sur bien des aspects l’approche traditionnelle. Si la période classique a pour l’essentiel concent… Más informaciones https://calenda-formation.labocleo.org/192747
LOCATION:Tours
END:VEVENT
BEGIN:VEVENT
DTSTART;VALUE=DATE:20070324
DTEND;VALUE=DATE:20070325
UID:192747-20070324@calenda.revues.org
SUMMARY:Pratiques et identités culturelles des armées hellénistiques du monde méditerranéen
URL:https://calenda-formation.labocleo.org/192747
DESCRIPTION:Depuis plusieurs décennies\, le thème de la guerre en Grèce ancienne n’a cessé de s’enrichir d’une production historiographique abondante et renouvelant sur bien des aspects l’approche traditionnelle. Si la période classique a pour l’essentiel concent… Más informaciones https://calenda-formation.labocleo.org/192747
LOCATION:Tours
END:VEVENT
END:VCALENDAR
