BEGIN:VCALENDAR
VERSION:2.0
PRODID:-//https://calenda-formation.labocleo.org
X-WR-CALNAME:Calenda
X-WR-TIMEZONE:Europe/Paris
CALSCALE:GREGORIAN
X-WR-CALDESC:Le calendrier des lettres et sciences humaines et sociales
METHOD:PUBLISH
BEGIN:VEVENT
DTSTART;VALUE=DATE:20070430
DTEND;VALUE=DATE:20070501
UID:192889-20070430@calenda.revues.org
SUMMARY:Animaux. Une autre histoire
URL:https://calenda-formation.labocleo.org/192889
DESCRIPTION:L’Animal est un acteur de la réalisation de l’histoire. Ce dossier thématique entend poser la question de savoir si l’Animal doit être considéré en tant qu’objet ou sujet\, de même que la manière dont il convient de traiter de sa “performance” du poin… @plus_info https://calenda-formation.labocleo.org/192889
LOCATION:
END:VEVENT
END:VCALENDAR
