BEGIN:VCALENDAR
VERSION:2.0
PRODID:-//https://calenda-formation.labocleo.org
X-WR-CALNAME:Calenda
X-WR-TIMEZONE:Europe/Paris
CALSCALE:GREGORIAN
X-WR-CALDESC:The calendar for arts, humanities and social sciences
METHOD:PUBLISH
BEGIN:VEVENT
DTSTART;VALUE=DATE:20071115
DTEND;VALUE=DATE:20071116
UID:192893-20071115@calenda.revues.org
SUMMARY:Dead Reckoning. Passchendaele 1917
URL:https://calenda-formation.labocleo.org/192893
DESCRIPTION:Une conférence internationale durant de 3 jours\, organisées par le Musée in Flanders Fields à Ypres et le Memorial Museum Passchendaele 1917 à Zonnebeke (Belgique). Les thèmes abordés seront: la preparation et le developpement de la 3e Bataille d'Ypr… @plus_info https://calenda-formation.labocleo.org/192893
LOCATION:Ypres
END:VEVENT
BEGIN:VEVENT
DTSTART;VALUE=DATE:20071116
DTEND;VALUE=DATE:20071117
UID:192893-20071116@calenda.revues.org
SUMMARY:Dead Reckoning. Passchendaele 1917
URL:https://calenda-formation.labocleo.org/192893
DESCRIPTION:Une conférence internationale durant de 3 jours\, organisées par le Musée in Flanders Fields à Ypres et le Memorial Museum Passchendaele 1917 à Zonnebeke (Belgique). Les thèmes abordés seront: la preparation et le developpement de la 3e Bataille d'Ypr… @plus_info https://calenda-formation.labocleo.org/192893
LOCATION:Ypres
END:VEVENT
BEGIN:VEVENT
DTSTART;VALUE=DATE:20071117
DTEND;VALUE=DATE:20071118
UID:192893-20071117@calenda.revues.org
SUMMARY:Dead Reckoning. Passchendaele 1917
URL:https://calenda-formation.labocleo.org/192893
DESCRIPTION:Une conférence internationale durant de 3 jours\, organisées par le Musée in Flanders Fields à Ypres et le Memorial Museum Passchendaele 1917 à Zonnebeke (Belgique). Les thèmes abordés seront: la preparation et le developpement de la 3e Bataille d'Ypr… @plus_info https://calenda-formation.labocleo.org/192893
LOCATION:Ypres
END:VEVENT
END:VCALENDAR
