BEGIN:VCALENDAR
VERSION:2.0
PRODID:-//https://calenda-formation.labocleo.org
X-WR-CALNAME:Calenda
X-WR-TIMEZONE:Europe/Paris
CALSCALE:GREGORIAN
X-WR-CALDESC:Le calendrier des lettres et sciences humaines et sociales
METHOD:PUBLISH
BEGIN:VEVENT
DTSTART;VALUE=DATE:20070426
DTEND;VALUE=DATE:20070427
UID:192915-20070426@calenda.revues.org
SUMMARY:Distinction ou division des sexes ? 
URL:https://calenda-formation.labocleo.org/192915
DESCRIPTION:Dans le cadre de l'Institut de criminologie de Paris II (Université Panthéon-Assas)\, l'Equipe Internationale Interdisciplinaire de Philosophie Pénale organise chaque année un séminaire de philosophie pénale dont le thème\, pour 2006-2007\, est :  DISTI… Más informaciones https://calenda-formation.labocleo.org/192915
LOCATION:París
END:VEVENT
BEGIN:VEVENT
DTSTART;VALUE=DATE:20070503
DTEND;VALUE=DATE:20070504
UID:192915-20070503@calenda.revues.org
SUMMARY:Distinction ou division des sexes ? 
URL:https://calenda-formation.labocleo.org/192915
DESCRIPTION:Dans le cadre de l'Institut de criminologie de Paris II (Université Panthéon-Assas)\, l'Equipe Internationale Interdisciplinaire de Philosophie Pénale organise chaque année un séminaire de philosophie pénale dont le thème\, pour 2006-2007\, est :  DISTI… Más informaciones https://calenda-formation.labocleo.org/192915
LOCATION:París
END:VEVENT
END:VCALENDAR
