BEGIN:VCALENDAR
VERSION:2.0
PRODID:-//https://calenda-formation.labocleo.org
X-WR-CALNAME:Calenda
X-WR-TIMEZONE:Europe/Paris
CALSCALE:GREGORIAN
X-WR-CALDESC:Le calendrier des lettres et sciences humaines et sociales
METHOD:PUBLISH
BEGIN:VEVENT
DTSTART;VALUE=DATE:20070730
DTEND;VALUE=DATE:20070731
UID:192994-20070730@calenda.revues.org
SUMMARY:De l’imitation dans les musées
URL:https://calenda-formation.labocleo.org/192994
DESCRIPTION:Avec l’ouverture du musée du quai Branly en 2006 et la gestation de plusieurs musées de l’Europe\, comme le Musée des Civilisations de l’Europe et de la Méditerranée de Marseille ou le musée de l'Europe de Bruxelles\, les enjeux muséologiques se retrou… @plus_info https://calenda-formation.labocleo.org/192994
LOCATION:Paris
END:VEVENT
END:VCALENDAR
