BEGIN:VCALENDAR
VERSION:2.0
PRODID:-//https://calenda-formation.labocleo.org
X-WR-CALNAME:Calenda
X-WR-TIMEZONE:Europe/Paris
CALSCALE:GREGORIAN
X-WR-CALDESC:Le calendrier des lettres et sciences humaines et sociales
METHOD:PUBLISH
BEGIN:VEVENT
DTSTART;VALUE=DATE:20070511
DTEND;VALUE=DATE:20070512
UID:192999-20070511@calenda.revues.org
SUMMARY:Publications scientifiques en ligne
URL:https://calenda-formation.labocleo.org/192999
DESCRIPTION:Pour l'ensemble des SHS\, le passage des supports de publication au format électronique fait question. La multiplication des supports électroniques fait éclater l'unité classique de la revue imprimée. Les frontières entre article scientifique et site … @plus_info https://calenda-formation.labocleo.org/192999
LOCATION:Paris
END:VEVENT
END:VCALENDAR
