BEGIN:VCALENDAR
VERSION:2.0
PRODID:-//https://calenda-formation.labocleo.org
X-WR-CALNAME:Calenda
X-WR-TIMEZONE:Europe/Paris
CALSCALE:GREGORIAN
X-WR-CALDESC:Le calendrier des lettres et sciences humaines et sociales
METHOD:PUBLISH
BEGIN:VEVENT
DTSTART;VALUE=DATE:20070524
DTEND;VALUE=DATE:20070525
UID:193013-20070524@calenda.revues.org
SUMMARY:« Apprentis sorciers ? »
URL:https://calenda-formation.labocleo.org/193013
DESCRIPTION:A l'heure des technologies "ambiantes" et nanométriques\, l'UpFing07 cherchera l'équilibre entre la nécessaire liberté d'innover et de chercher\, les attentes de la société et la prise en compte de risques nouveaux.… Weitere Informationen https://calenda-formation.labocleo.org/193013
LOCATION:Aix-en-Provence
END:VEVENT
BEGIN:VEVENT
DTSTART;VALUE=DATE:20070525
DTEND;VALUE=DATE:20070526
UID:193013-20070525@calenda.revues.org
SUMMARY:« Apprentis sorciers ? »
URL:https://calenda-formation.labocleo.org/193013
DESCRIPTION:A l'heure des technologies "ambiantes" et nanométriques\, l'UpFing07 cherchera l'équilibre entre la nécessaire liberté d'innover et de chercher\, les attentes de la société et la prise en compte de risques nouveaux.… Weitere Informationen https://calenda-formation.labocleo.org/193013
LOCATION:Aix-en-Provence
END:VEVENT
END:VCALENDAR
