BEGIN:VCALENDAR
VERSION:2.0
PRODID:-//https://calenda-formation.labocleo.org
X-WR-CALNAME:Calenda
X-WR-TIMEZONE:Europe/Paris
CALSCALE:GREGORIAN
X-WR-CALDESC:Le calendrier des lettres et sciences humaines et sociales
METHOD:PUBLISH
BEGIN:VEVENT
DTSTART;VALUE=DATE:20070607
DTEND;VALUE=DATE:20070608
UID:193059-20070607@calenda.revues.org
SUMMARY:L'universalisme démocratique en question : un nouveau paradigme ?
URL:https://calenda-formation.labocleo.org/193059
DESCRIPTION:L’histoire de ces trente dernières années a été vécue dans le monde occidental avec le présupposé satisfait que la démocratie était un bien parfaitement théorisé et adéquatement réalisé. Les impatiences et les rejets qui ont nourri les post-colonial … Weitere Informationen https://calenda-formation.labocleo.org/193059
LOCATION:Paris
END:VEVENT
BEGIN:VEVENT
DTSTART;VALUE=DATE:20070608
DTEND;VALUE=DATE:20070609
UID:193059-20070608@calenda.revues.org
SUMMARY:L'universalisme démocratique en question : un nouveau paradigme ?
URL:https://calenda-formation.labocleo.org/193059
DESCRIPTION:L’histoire de ces trente dernières années a été vécue dans le monde occidental avec le présupposé satisfait que la démocratie était un bien parfaitement théorisé et adéquatement réalisé. Les impatiences et les rejets qui ont nourri les post-colonial … Weitere Informationen https://calenda-formation.labocleo.org/193059
LOCATION:Paris
END:VEVENT
END:VCALENDAR
