BEGIN:VCALENDAR
VERSION:2.0
PRODID:-//https://calenda-formation.labocleo.org
X-WR-CALNAME:Calenda
X-WR-TIMEZONE:Europe/Paris
CALSCALE:GREGORIAN
X-WR-CALDESC:Le calendrier des lettres et sciences humaines et sociales
METHOD:PUBLISH
BEGIN:VEVENT
DTSTART;VALUE=DATE:20070608
DTEND;VALUE=DATE:20070609
UID:193079-20070608@calenda.revues.org
SUMMARY:Contentieux pénal de l'urbanisme
URL:https://calenda-formation.labocleo.org/193079
DESCRIPTION:La violation des règles d’urbanisme peut donner lieu à différentes sanctions\, devant les juges administratif\, civil\, mais aussi pénal. Ce dernier type de contentieux est moins connu. Quelles sont les actions envisageables en matière pénale ? Quel est… @plus_info https://calenda-formation.labocleo.org/193079
LOCATION:Paris
END:VEVENT
END:VCALENDAR
