BEGIN:VCALENDAR
VERSION:2.0
PRODID:-//https://calenda-formation.labocleo.org
X-WR-CALNAME:Calenda
X-WR-TIMEZONE:Europe/Paris
CALSCALE:GREGORIAN
X-WR-CALDESC:The calendar for arts, humanities and social sciences
METHOD:PUBLISH
BEGIN:VEVENT
DTSTART;VALUE=DATE:20070727
DTEND;VALUE=DATE:20070728
UID:193115-20070727@calenda.revues.org
SUMMARY:La vie en commun dans les villes médiévales
URL:https://calenda-formation.labocleo.org/193115
DESCRIPTION:Ces Rencontres Internationales\, organisées par l'Excmo Ayuntamiento de Nájera et le Groupe d'Histoire urbaine de l'Université de Cantabrie\, réuniront des spécialistes des universités d'Espagne\, de France\, du Portugal\, d'Italie et d'Allemagne avec le … @plus_info https://calenda-formation.labocleo.org/193115
LOCATION:Nájera
END:VEVENT
BEGIN:VEVENT
DTSTART;VALUE=DATE:20070724
DTEND;VALUE=DATE:20070725
UID:193115-20070724@calenda.revues.org
SUMMARY:La vie en commun dans les villes médiévales
URL:https://calenda-formation.labocleo.org/193115
DESCRIPTION:Ces Rencontres Internationales\, organisées par l'Excmo Ayuntamiento de Nájera et le Groupe d'Histoire urbaine de l'Université de Cantabrie\, réuniront des spécialistes des universités d'Espagne\, de France\, du Portugal\, d'Italie et d'Allemagne avec le … @plus_info https://calenda-formation.labocleo.org/193115
LOCATION:Nájera
END:VEVENT
BEGIN:VEVENT
DTSTART;VALUE=DATE:20070725
DTEND;VALUE=DATE:20070726
UID:193115-20070725@calenda.revues.org
SUMMARY:La vie en commun dans les villes médiévales
URL:https://calenda-formation.labocleo.org/193115
DESCRIPTION:Ces Rencontres Internationales\, organisées par l'Excmo Ayuntamiento de Nájera et le Groupe d'Histoire urbaine de l'Université de Cantabrie\, réuniront des spécialistes des universités d'Espagne\, de France\, du Portugal\, d'Italie et d'Allemagne avec le … @plus_info https://calenda-formation.labocleo.org/193115
LOCATION:Nájera
END:VEVENT
BEGIN:VEVENT
DTSTART;VALUE=DATE:20070726
DTEND;VALUE=DATE:20070727
UID:193115-20070726@calenda.revues.org
SUMMARY:La vie en commun dans les villes médiévales
URL:https://calenda-formation.labocleo.org/193115
DESCRIPTION:Ces Rencontres Internationales\, organisées par l'Excmo Ayuntamiento de Nájera et le Groupe d'Histoire urbaine de l'Université de Cantabrie\, réuniront des spécialistes des universités d'Espagne\, de France\, du Portugal\, d'Italie et d'Allemagne avec le … @plus_info https://calenda-formation.labocleo.org/193115
LOCATION:Nájera
END:VEVENT
END:VCALENDAR
