BEGIN:VCALENDAR
VERSION:2.0
PRODID:-//https://calenda-formation.labocleo.org
X-WR-CALNAME:Calenda
X-WR-TIMEZONE:Europe/Paris
CALSCALE:GREGORIAN
X-WR-CALDESC:The calendar for arts, humanities and social sciences
METHOD:PUBLISH
BEGIN:VEVENT
DTSTART;VALUE=DATE:20070522
DTEND;VALUE=DATE:20070523
UID:193139-20070522@calenda.revues.org
SUMMARY:Population : de l'explosion à l'implosion ?
URL:https://calenda-formation.labocleo.org/193139
DESCRIPTION:Prochaine séance des Entretiens du XXIe siècle  organisée par le Bureau de la prospective de l’UNESCO Boutros BOUTROS-GHALI\, Hervé LE BRAS\, Jeremy RIFKIN et Hania ZLOTNIK  dialogueront autour du thème : Population : de l'explosion à l'implosion ? le … @plus_info https://calenda-formation.labocleo.org/193139
LOCATION:Paris
END:VEVENT
END:VCALENDAR
