BEGIN:VCALENDAR
VERSION:2.0
PRODID:-//https://calenda-formation.labocleo.org
X-WR-CALNAME:Calenda
X-WR-TIMEZONE:Europe/Paris
CALSCALE:GREGORIAN
X-WR-CALDESC:Le calendrier des lettres et sciences humaines et sociales
METHOD:PUBLISH
BEGIN:VEVENT
DTSTART;VALUE=DATE:20070605
DTEND;VALUE=DATE:20070606
UID:193153-20070605@calenda.revues.org
SUMMARY:Private Urban Governance : Production of urban spaces\, Interactions of public and private actors\, Sustainability of cities
URL:https://calenda-formation.labocleo.org/193153
DESCRIPTION:Gouvernance urbaine privée : Production des espaces urbains\, interactions entre acteurs publics et privés\, et développement urbain durable.  Après la conférence internationale "Territory\, Control and Enclosure" qui s'est tenue à Pretoria en février 2… Weitere Informationen https://calenda-formation.labocleo.org/193153
LOCATION:Paris
END:VEVENT
END:VCALENDAR
