BEGIN:VCALENDAR
VERSION:2.0
PRODID:-//https://calenda-formation.labocleo.org
X-WR-CALNAME:Calenda
X-WR-TIMEZONE:Europe/Paris
CALSCALE:GREGORIAN
X-WR-CALDESC:Le calendrier des lettres et sciences humaines et sociales
METHOD:PUBLISH
BEGIN:VEVENT
DTSTART;VALUE=DATE:20070611
DTEND;VALUE=DATE:20070612
UID:193169-20070611@calenda.revues.org
SUMMARY:Vote en Paca 2007
URL:https://calenda-formation.labocleo.org/193169
DESCRIPTION:Appel à contribution pour un ouvrage collectif\, relatif aux études électorales. Les propositions de contribution sont à envoyer à voteenpaca2007@gmail.com avant le 11 juin 2007.… Weitere Informationen https://calenda-formation.labocleo.org/193169
LOCATION:
END:VEVENT
END:VCALENDAR
