BEGIN:VCALENDAR
VERSION:2.0
PRODID:-//https://calenda-formation.labocleo.org
X-WR-CALNAME:Calenda
X-WR-TIMEZONE:Europe/Paris
CALSCALE:GREGORIAN
X-WR-CALDESC:The calendar for arts, humanities and social sciences
METHOD:PUBLISH
BEGIN:VEVENT
DTSTART;VALUE=DATE:20070604
DTEND;VALUE=DATE:20070605
UID:193173-20070604@calenda.revues.org
SUMMARY:Quel travail de mémoire en Méditerranée ?
URL:https://calenda-formation.labocleo.org/193173
DESCRIPTION:En cet espace chargé d’histoire(s) qu’est la Méditerranée\, le passé et ses représentations pèsent dans la façon dont les conflits identitaires se déploient. La Méditerranée représente un terrain privilégié pour comprendre à quelles conditions ces con… @plus_info https://calenda-formation.labocleo.org/193173
LOCATION:Aix-en-Provence
END:VEVENT
BEGIN:VEVENT
DTSTART;VALUE=DATE:20070606
DTEND;VALUE=DATE:20070607
UID:193173-20070606@calenda.revues.org
SUMMARY:Quel travail de mémoire en Méditerranée ?
URL:https://calenda-formation.labocleo.org/193173
DESCRIPTION:En cet espace chargé d’histoire(s) qu’est la Méditerranée\, le passé et ses représentations pèsent dans la façon dont les conflits identitaires se déploient. La Méditerranée représente un terrain privilégié pour comprendre à quelles conditions ces con… @plus_info https://calenda-formation.labocleo.org/193173
LOCATION:Aix-en-Provence
END:VEVENT
END:VCALENDAR
