BEGIN:VCALENDAR
VERSION:2.0
PRODID:-//https://calenda-formation.labocleo.org
X-WR-CALNAME:Calenda
X-WR-TIMEZONE:Europe/Paris
CALSCALE:GREGORIAN
X-WR-CALDESC:Le calendrier des lettres et sciences humaines et sociales
METHOD:PUBLISH
BEGIN:VEVENT
DTSTART;VALUE=DATE:20070731
DTEND;VALUE=DATE:20070801
UID:193215-20070731@calenda.revues.org
SUMMARY:Analogous Spaces
URL:https://calenda-formation.labocleo.org/193215
DESCRIPTION:The International Conference on Analogous Spaces interrogates the analogy between spaces in which knowledge is preserved\, organized\, transferred or activated. Although these spaces may differ in material\, virtual\, or operational ways\, there are resem… @plus_info https://calenda-formation.labocleo.org/193215
LOCATION:Gand
END:VEVENT
END:VCALENDAR
