BEGIN:VCALENDAR
VERSION:2.0
PRODID:-//https://calenda-formation.labocleo.org
X-WR-CALNAME:Calenda
X-WR-TIMEZONE:Europe/Paris
CALSCALE:GREGORIAN
X-WR-CALDESC:The calendar for arts, humanities and social sciences
METHOD:PUBLISH
BEGIN:VEVENT
DTSTART;VALUE=DATE:20071211
DTEND;VALUE=DATE:20071212
UID:193269-20071211@calenda.revues.org
SUMMARY:Les Ateliers de la recherche en design : troisième volet
URL:https://calenda-formation.labocleo.org/193269
DESCRIPTION:L’appel à communication propose de replacer l’utilisateur\, l’usager\, le récepteur\, le regardeur au coeur de la réflexion interdisciplinaire et transdiciplinaire proposée dans la connaissance    « générique » du design. En effet\, selon les disciplines… @plus_info https://calenda-formation.labocleo.org/193269
LOCATION:Bordeaux
END:VEVENT
BEGIN:VEVENT
DTSTART;VALUE=DATE:20071212
DTEND;VALUE=DATE:20071213
UID:193269-20071212@calenda.revues.org
SUMMARY:Les Ateliers de la recherche en design : troisième volet
URL:https://calenda-formation.labocleo.org/193269
DESCRIPTION:L’appel à communication propose de replacer l’utilisateur\, l’usager\, le récepteur\, le regardeur au coeur de la réflexion interdisciplinaire et transdiciplinaire proposée dans la connaissance    « générique » du design. En effet\, selon les disciplines… @plus_info https://calenda-formation.labocleo.org/193269
LOCATION:Bordeaux
END:VEVENT
END:VCALENDAR
