BEGIN:VCALENDAR
VERSION:2.0
PRODID:-//https://calenda-formation.labocleo.org
X-WR-CALNAME:Calenda
X-WR-TIMEZONE:Europe/Paris
CALSCALE:GREGORIAN
X-WR-CALDESC:The calendar for arts, humanities and social sciences
METHOD:PUBLISH
BEGIN:VEVENT
DTSTART;VALUE=DATE:20070930
DTEND;VALUE=DATE:20071001
UID:193329-20070930@calenda.revues.org
SUMMARY:Penser et vivre l'honneur à l'époque moderne
URL:https://calenda-formation.labocleo.org/193329
DESCRIPTION:Dans les sociétés de l'Europe moderne\, l'honneur forme une injonction impérieuse qui peut inciter les individus à lui sacrifier leur vie. Le duel et les comportements guerriers n'en sont que les manifestations les plus spectaculaires\, car l'honneur s… @plus_info https://calenda-formation.labocleo.org/193329
LOCATION:Metz
END:VEVENT
END:VCALENDAR
