BEGIN:VCALENDAR
VERSION:2.0
PRODID:-//https://calenda-formation.labocleo.org
X-WR-CALNAME:Calenda
X-WR-TIMEZONE:Europe/Paris
CALSCALE:GREGORIAN
X-WR-CALDESC:Le calendrier des lettres et sciences humaines et sociales
METHOD:PUBLISH
BEGIN:VEVENT
DTSTART;VALUE=DATE:20071004
DTEND;VALUE=DATE:20071005
UID:193380-20071004@calenda.revues.org
SUMMARY:Les mutations du service public
URL:https://calenda-formation.labocleo.org/193380
DESCRIPTION:L’émancipation de l’usager passe par la reconnaissance de nouveaux droits au profit de l’usager\, acteur du service public. Comment concilier ces nouveaux droits avec les « lois » du service public ? La réforme de l’État et la soumission des services … Más informaciones https://calenda-formation.labocleo.org/193380
LOCATION:Besanzón
END:VEVENT
END:VCALENDAR
