BEGIN:VCALENDAR
VERSION:2.0
PRODID:-//https://calenda-formation.labocleo.org
X-WR-CALNAME:Calenda
X-WR-TIMEZONE:Europe/Paris
CALSCALE:GREGORIAN
X-WR-CALDESC:Le calendrier des lettres et sciences humaines et sociales
METHOD:PUBLISH
BEGIN:VEVENT
DTSTART;VALUE=DATE:20071005
DTEND;VALUE=DATE:20071006
UID:193399-20071005@calenda.revues.org
SUMMARY:Servir outre-mer
URL:https://calenda-formation.labocleo.org/193399
DESCRIPTION:Cette rencontre construite uniquement autour de chercheurs étrangers a pour objet un point historiographique sur l’état de la question des élites coloniales de la première vague d’expansion ibérique aux débuts de l’époque moderne jusqu’aux décolonisa… @plus_info https://calenda-formation.labocleo.org/193399
LOCATION:Bordeaux
END:VEVENT
BEGIN:VEVENT
DTSTART;VALUE=DATE:20071006
DTEND;VALUE=DATE:20071007
UID:193399-20071006@calenda.revues.org
SUMMARY:Servir outre-mer
URL:https://calenda-formation.labocleo.org/193399
DESCRIPTION:Cette rencontre construite uniquement autour de chercheurs étrangers a pour objet un point historiographique sur l’état de la question des élites coloniales de la première vague d’expansion ibérique aux débuts de l’époque moderne jusqu’aux décolonisa… @plus_info https://calenda-formation.labocleo.org/193399
LOCATION:Bordeaux
END:VEVENT
BEGIN:VEVENT
DTSTART;VALUE=DATE:20071004
DTEND;VALUE=DATE:20071005
UID:193399-20071004@calenda.revues.org
SUMMARY:Servir outre-mer
URL:https://calenda-formation.labocleo.org/193399
DESCRIPTION:Cette rencontre construite uniquement autour de chercheurs étrangers a pour objet un point historiographique sur l’état de la question des élites coloniales de la première vague d’expansion ibérique aux débuts de l’époque moderne jusqu’aux décolonisa… @plus_info https://calenda-formation.labocleo.org/193399
LOCATION:Bordeaux
END:VEVENT
END:VCALENDAR
