BEGIN:VCALENDAR
VERSION:2.0
PRODID:-//https://calenda-formation.labocleo.org
X-WR-CALNAME:Calenda
X-WR-TIMEZONE:Europe/Paris
CALSCALE:GREGORIAN
X-WR-CALDESC:O calendário de letras e de ciências sociais e humanas
METHOD:PUBLISH
BEGIN:VEVENT
DTSTART;VALUE=DATE:20070915
DTEND;VALUE=DATE:20070916
UID:193420-20070915@calenda.revues.org
SUMMARY:Journées Jean-Pierre Deffontaines
URL:https://calenda-formation.labocleo.org/193420
DESCRIPTION:Jean-Pierre Deffontaines\, directeur de recherche à l’Inra\, membre de l’Académie d’Agriculture\, nous a quittés le 25 octobre 2006. Il laisse une oeuvre foisonnante\, construite autour des mots Potentialités\, Pratiques\, Paysage. Ses recherches\, en tant … @plus_info https://calenda-formation.labocleo.org/193420
LOCATION:Versalhes
END:VEVENT
END:VCALENDAR
