BEGIN:VCALENDAR
VERSION:2.0
PRODID:-//https://calenda-formation.labocleo.org
X-WR-CALNAME:Calenda
X-WR-TIMEZONE:Europe/Paris
CALSCALE:GREGORIAN
X-WR-CALDESC:Le calendrier des lettres et sciences humaines et sociales
METHOD:PUBLISH
BEGIN:VEVENT
DTSTART;VALUE=DATE:20071115
DTEND;VALUE=DATE:20071116
UID:193429-20071115@calenda.revues.org
SUMMARY:Lieux et sociétés ethnologisés
URL:https://calenda-formation.labocleo.org/193429
DESCRIPTION:Le peu de place concédé en France à l’anthropologie réflexive amène à interroger les impacts de la discipline.Certains lieux ou certains « échantillons de sociétés » ont été étudiés par les chercheurs de façon acharnée. Un lieu ethnologisé peut ainsi… Weitere Informationen https://calenda-formation.labocleo.org/193429
LOCATION:Bordeaux
END:VEVENT
END:VCALENDAR
