BEGIN:VCALENDAR
VERSION:2.0
PRODID:-//https://calenda-formation.labocleo.org
X-WR-CALNAME:Calenda
X-WR-TIMEZONE:Europe/Paris
CALSCALE:GREGORIAN
X-WR-CALDESC:Le calendrier des lettres et sciences humaines et sociales
METHOD:PUBLISH
BEGIN:VEVENT
DTSTART;VALUE=DATE:20071012
DTEND;VALUE=DATE:20071013
UID:193448-20071012@calenda.revues.org
SUMMARY:René Rémond\, un intellectuel chrétien
URL:https://calenda-formation.labocleo.org/193448
DESCRIPTION:Journée d'études organisée par Dominique Borne (IESR) et Denis Pelletier (EPHE).… Weitere Informationen https://calenda-formation.labocleo.org/193448
LOCATION:Paris
END:VEVENT
END:VCALENDAR
