BEGIN:VCALENDAR
VERSION:2.0
PRODID:-//https://calenda-formation.labocleo.org
X-WR-CALNAME:Calenda
X-WR-TIMEZONE:Europe/Paris
CALSCALE:GREGORIAN
X-WR-CALDESC:The calendar for arts, humanities and social sciences
METHOD:PUBLISH
BEGIN:VEVENT
DTSTART;VALUE=DATE:20071005
DTEND;VALUE=DATE:20071006
UID:193460-20071005@calenda.revues.org
SUMMARY:Section « Études féministes » - cinquième congrès international Marx
URL:https://calenda-formation.labocleo.org/193460
DESCRIPTION:« Un autre monde est possible »\, mais quel autre monde ?  Appréhendées sous l'angle des rapports sociaux de sexe\, ces questions impliquent un détour. En tout premier lieu\, un retour critique sur le concept de mondialisation. Les études féministes\, en… @plus_info https://calenda-formation.labocleo.org/193460
LOCATION:Paris
END:VEVENT
BEGIN:VEVENT
DTSTART;VALUE=DATE:20071006
DTEND;VALUE=DATE:20071007
UID:193460-20071006@calenda.revues.org
SUMMARY:Section « Études féministes » - cinquième congrès international Marx
URL:https://calenda-formation.labocleo.org/193460
DESCRIPTION:« Un autre monde est possible »\, mais quel autre monde ?  Appréhendées sous l'angle des rapports sociaux de sexe\, ces questions impliquent un détour. En tout premier lieu\, un retour critique sur le concept de mondialisation. Les études féministes\, en… @plus_info https://calenda-formation.labocleo.org/193460
LOCATION:Paris
END:VEVENT
BEGIN:VEVENT
DTSTART;VALUE=DATE:20071003
DTEND;VALUE=DATE:20071004
UID:193460-20071003@calenda.revues.org
SUMMARY:Section « Études féministes » - cinquième congrès international Marx
URL:https://calenda-formation.labocleo.org/193460
DESCRIPTION:« Un autre monde est possible »\, mais quel autre monde ?  Appréhendées sous l'angle des rapports sociaux de sexe\, ces questions impliquent un détour. En tout premier lieu\, un retour critique sur le concept de mondialisation. Les études féministes\, en… @plus_info https://calenda-formation.labocleo.org/193460
LOCATION:Paris
END:VEVENT
BEGIN:VEVENT
DTSTART;VALUE=DATE:20071004
DTEND;VALUE=DATE:20071005
UID:193460-20071004@calenda.revues.org
SUMMARY:Section « Études féministes » - cinquième congrès international Marx
URL:https://calenda-formation.labocleo.org/193460
DESCRIPTION:« Un autre monde est possible »\, mais quel autre monde ?  Appréhendées sous l'angle des rapports sociaux de sexe\, ces questions impliquent un détour. En tout premier lieu\, un retour critique sur le concept de mondialisation. Les études féministes\, en… @plus_info https://calenda-formation.labocleo.org/193460
LOCATION:Paris
END:VEVENT
END:VCALENDAR
