BEGIN:VCALENDAR
VERSION:2.0
PRODID:-//https://calenda-formation.labocleo.org
X-WR-CALNAME:Calenda
X-WR-TIMEZONE:Europe/Paris
CALSCALE:GREGORIAN
X-WR-CALDESC:The calendar for arts, humanities and social sciences
METHOD:PUBLISH
BEGIN:VEVENT
DTSTART;VALUE=DATE:20071129
DTEND;VALUE=DATE:20071130
UID:193487-20071129@calenda.revues.org
SUMMARY:À quoi servent les réunions ?
URL:https://calenda-formation.labocleo.org/193487
DESCRIPTION:Le Laboratoire Interdisciplinaire pour la Sociologie Economique (CNAM-CNRS) et le réseau thématique 30 « Sociologie de la gestion » (AFS) organisent une journée d'étude : « À quoi servent les réunions ? ». Cette journée se propose d’amorcer une réfle… @plus_info https://calenda-formation.labocleo.org/193487
LOCATION:Paris
END:VEVENT
END:VCALENDAR
