BEGIN:VCALENDAR
VERSION:2.0
PRODID:-//https://calenda-formation.labocleo.org
X-WR-CALNAME:Calenda
X-WR-TIMEZONE:Europe/Paris
CALSCALE:GREGORIAN
X-WR-CALDESC:Le calendrier des lettres et sciences humaines et sociales
METHOD:PUBLISH
BEGIN:VEVENT
DTSTART;VALUE=DATE:20071101
DTEND;VALUE=DATE:20071102
UID:193589-20071101@calenda.revues.org
SUMMARY:Politique et Sociétés
URL:https://calenda-formation.labocleo.org/193589
DESCRIPTION:Le comité de rédaction de Politique et Sociétés\, la revue phare de la Société québécoise de science politique\, sollicite des textes originaux pour inclusion au sein d’un numéro thématique portant sur la «Construction de la légitimité dans l’espace pu… @plus_info https://calenda-formation.labocleo.org/193589
LOCATION:
END:VEVENT
END:VCALENDAR
