BEGIN:VCALENDAR
VERSION:2.0
PRODID:-//https://calenda-formation.labocleo.org
X-WR-CALNAME:Calenda
X-WR-TIMEZONE:Europe/Paris
CALSCALE:GREGORIAN
X-WR-CALDESC:The calendar for arts, humanities and social sciences
METHOD:PUBLISH
BEGIN:VEVENT
DTSTART;VALUE=DATE:20071109
DTEND;VALUE=DATE:20071110
UID:193650-20071109@calenda.revues.org
SUMMARY:Arts et politique : perspectives franco-américaines
URL:https://calenda-formation.labocleo.org/193650
DESCRIPTION:Des sociologues et des politistes français et américains confrontent les résultats de recherches abordant les rapports entre art et politique dans des situations historiquement et géographiquement diversifiées. Ce colloque crée ainsi un espace de dis… @plus_info https://calenda-formation.labocleo.org/193650
LOCATION:Nanterre
END:VEVENT
END:VCALENDAR
