BEGIN:VCALENDAR
VERSION:2.0
PRODID:-//https://calenda-formation.labocleo.org
X-WR-CALNAME:Calenda
X-WR-TIMEZONE:Europe/Paris
CALSCALE:GREGORIAN
X-WR-CALDESC:The calendar for arts, humanities and social sciences
METHOD:PUBLISH
BEGIN:VEVENT
DTSTART;VALUE=DATE:20071115
DTEND;VALUE=DATE:20071116
UID:193768-20071115@calenda.revues.org
SUMMARY:Les métamorphoses du texte. La maîtrise du discours mise à l'épreuve des médiations
URL:https://calenda-formation.labocleo.org/193768
DESCRIPTION:Dans une société marquée par le développement des industries culturelles\, la place de la littérature paraît de plus en plus contestée. Même si elles restent difficiles à appréhender\, de nouvelles écritures sont en émergence et l’on assiste à une dive… @plus_info https://calenda-formation.labocleo.org/193768
LOCATION:Boulogne
END:VEVENT
END:VCALENDAR
