BEGIN:VCALENDAR
VERSION:2.0
PRODID:-//https://calenda-formation.labocleo.org
X-WR-CALNAME:Calenda
X-WR-TIMEZONE:Europe/Paris
CALSCALE:GREGORIAN
X-WR-CALDESC:The calendar for arts, humanities and social sciences
METHOD:PUBLISH
BEGIN:VEVENT
DTSTART;VALUE=DATE:20071204
DTEND;VALUE=DATE:20071205
UID:193783-20071204@calenda.revues.org
SUMMARY:Recherche en sciences humaines et sociales et porteurs d’enjeux en cancérologie
URL:https://calenda-formation.labocleo.org/193783
DESCRIPTION:La première Journée “cancer et société”\, organisé par l’axe SHS du Cancéropôle Ile-de-France aura lieu à la Sorbonne\, salle Louis-Liard (17 rue de la Sorbonne 75005 Paris) le 4 décembre 2007 de 9h à 17h. L’entrée est libre. Cette journée réunira cher… @plus_info https://calenda-formation.labocleo.org/193783
LOCATION:Paris
END:VEVENT
END:VCALENDAR
