BEGIN:VCALENDAR
VERSION:2.0
PRODID:-//https://calenda-formation.labocleo.org
X-WR-CALNAME:Calenda
X-WR-TIMEZONE:Europe/Paris
CALSCALE:GREGORIAN
X-WR-CALDESC:The calendar for arts, humanities and social sciences
METHOD:PUBLISH
BEGIN:VEVENT
DTSTART;VALUE=DATE:20071108
DTEND;VALUE=DATE:20071109
UID:193790-20071108@calenda.revues.org
SUMMARY:La guerre d'indépendance dans les révolutions espagnoles du XIXe siècle (1808-1868)
URL:https://calenda-formation.labocleo.org/193790
DESCRIPTION:- L’individu\, la Nation\, la citoyenneté et la communauté dans les expériences constitutionnelles espagnoles\, de la Guerre d’Indépendance à 1868 - La Guerre d’Indépendance et les expériences politiques du XIXe siècle - Le modèle libéral de Cadix hors … @plus_info https://calenda-formation.labocleo.org/193790
LOCATION:Clermont-Ferrand
END:VEVENT
BEGIN:VEVENT
DTSTART;VALUE=DATE:20071109
DTEND;VALUE=DATE:20071110
UID:193790-20071109@calenda.revues.org
SUMMARY:La guerre d'indépendance dans les révolutions espagnoles du XIXe siècle (1808-1868)
URL:https://calenda-formation.labocleo.org/193790
DESCRIPTION:- L’individu\, la Nation\, la citoyenneté et la communauté dans les expériences constitutionnelles espagnoles\, de la Guerre d’Indépendance à 1868 - La Guerre d’Indépendance et les expériences politiques du XIXe siècle - Le modèle libéral de Cadix hors … @plus_info https://calenda-formation.labocleo.org/193790
LOCATION:Clermont-Ferrand
END:VEVENT
END:VCALENDAR
